BEGIN:VCALENDAR
VERSION:2.0
PRODID:-//ChamberMaster//Event Calendar 2.0//EN
METHOD:PUBLISH
X-PUBLISHED-TTL:P3D
REFRESH-INTERVAL:P3D
CALSCALE:GREGORIAN
BEGIN:VEVENT
DTSTART:20210113T150000Z
DTEND:20210113T153000Z
X-MICROSOFT-CDO-ALLDAYEVENT:FALSE
SUMMARY:Using Existing Service Networks in Macomb County
DESCRIPTION:Please join Macomb County for this meeting to learn about:\n\n	Online User-friendly Resource Directory\n	Resource Referrals and Access to Services\n	Online Community Well-being Bulletin Board\n	Online Communities for Service Providers\n	Inter-Agency Trainings\n	Macomb County Committees\n	Regional and National Resources\n\nThis training is for professionals.\n\n\n\nEvent is sponsored by Woman's Life Chapter 911 - Macomb Angels Presented by Madeline Habib\, M.A.\n\n\n\nFor more information:\n\n\n\nNetworking Flyer\n\n\n\nNetworking Document
X-ALT-DESC;FMTTYPE=text/html:<br />\nPlease join Macomb County for this meeting to learn about:\n<ul>\n	<li>Online User-friendly Resource Directory</li>\n	<li>Resource Referrals and Access to Services</li>\n	<li>Online Community Well-being Bulletin Board</li>\n	<li>Online Communities for Service Providers</li>\n	<li>Inter-Agency Trainings</li>\n	<li>Macomb County Committees</li>\n	<li>Regional and National Resources</li>\n</ul>\nThis training is for professionals.<br />\n<br />\nEvent is sponsored by Woman&rsquo\;s Life Chapter 911 - Macomb Angels Presented by Madeline Habib\, M.A.<br />\n<br />\nFor more information:<br />\n<br />\n<a href="https://chambermaster.blob.core.windows.net/userfiles/UserFiles/chambers/3222/File/MacombCountyNetworkingflyerJan132021.pdf" target="_blank">Networking Flyer</a><br />\n<br />\n<a href="https://chambermaster.blob.core.windows.net/userfiles/UserFiles/chambers/3222/File/MACOMBCOUNTYNETWORKINGDOCUMENT.FIN.pdf" target="_blank">Networking Document</a>
LOCATION:Virtual Zoom Meet
UID:e.3222.2043
SEQUENCE:3
DTSTAMP:20260426T004649Z
URL:http://apaccmi.chambermaster.com/events/details/using-existing-service-networks-in-macomb-county-2043
END:VEVENT

END:VCALENDAR
