BEGIN:VCALENDAR
VERSION:2.0
PRODID:-//ChamberMaster//Event Calendar 2.0//EN
METHOD:PUBLISH
X-PUBLISHED-TTL:P3D
REFRESH-INTERVAL:P3D
CALSCALE:GREGORIAN
BEGIN:VEVENT
DTSTART:20210916T130000Z
DTEND:20210916T190000Z
X-MICROSOFT-CDO-ALLDAYEVENT:FALSE
SUMMARY:Stellantis 2021 Matchmaker
DESCRIPTION:Please join Stellantis at their Annual Supplier Diversity MatchMaker Event for this year\; as 2021 marks the 22nd year of this celebrated event.\n\n \n\nThis event is one of the industry's largest attended supplier diversity trade shows. During this event\, the attendees have the opportunity to hear from Stellantis Leadership and Industry Supplier Diversity Leaders. They have the opportunity to network with diverse suppliers to develop contacts to grow their business opportunities\, and also network with Stellantis buying teams.\n\n \n\nThis year Stellantis will continue our commitment to our diverse suppliers and our partners by partnering with the Original Equipment Supplier Association (OESA) to deliver this event virtually. We are inviting you all to participate as either an attendee or an exhibitor.\n\n \n\nAgenda:\n\n9:00 AM - 10:15 AM: Opening Ceremony featuring Stellantis / OESA Leadership / Keynote Speaker\n\n10:15 AM - 10:30 AM: Supplier Diversity Awards Recognition\n\n10:30 AM - 1:00 PM: Supplier to Supplier MatchMaker\n\n1:00 PM - 2:00 PM: Supplier Networking with Stellantis Buyers Teams ( 50 Buyers) \n\n2:00 PM - 3:00 PM: Supplier Networking with Diversity Council Partners\n\n \n\nThroughout the day attendees will be able to review business development webinars to support their continued growth and development.\n\n \n\nExhibitors:\n\n\n	There is no cost for current OESA supplier members to have a virtual exhibit space.\n	The cost for the virtual exhibit space is $500 per company for non-OESA members. Non- OESA members can waive the exhibit fee by joining OESA and paying 2022 membership dues\, as a benefit OESA will offer free membership for the remainder of 2021 as well.\n	 \n	The deadline to register for a virtual exhibit space is September 4\, 2021.\n	You will be able to have up to 3 members represent your company in your virtual booth.\n\n\nNon-Exhibiting Attendees:\n\n\n	If you are interested in attending the event\, but not as an exhibitor\, the cost per attendee will be $50 per person\, on or before September 10\, 2021 and $75 per person afterwards.\n	All attendees will have the opportunity to visit exhibitors in a virtual trade show environment with the ability to have private video connections for 1:1 networking with suppliers and Stellantis buyers.\n	The event will also feature on-demand presentations including: Stellantis\, OESA and others.\n\n\n\nView Flyer here.
X-ALT-DESC;FMTTYPE=text/html:<div><br />\nPlease join <strong>Stellantis</strong>&nbsp\;at their <strong>Annual Supplier Diversity MatchMaker </strong>Event for this year\; as <strong>2021 marks the 22nd year of this celebrated event</strong>.</div>\n\n<div>&nbsp\;</div>\n\n<div>This event is one of the industry&rsquo\;s largest attended supplier diversity trade shows. During this event\, the attendees have the opportunity to hear from Stellantis Leadership and Industry Supplier Diversity Leaders. They have the opportunity to network with diverse suppliers to develop contacts to grow their business opportunities\, and also network with Stellantis buying teams.</div>\n\n<div>&nbsp\;</div>\n\n<div>This year Stellantis will continue our commitment to our diverse suppliers and our partners by partnering with the Original Equipment Supplier Association (OESA) to deliver this event virtually.<span style="white-space:pre"> </span>We are inviting you all to participate as either an attendee or an exhibitor.</div>\n\n<div>&nbsp\;</div>\n\n<div><strong>Agenda</strong>:</div>\n\n<div>9:00 AM - 10:15 AM:<span style="white-space:pre"> </span>Opening Ceremony featuring Stellantis / OESA Leadership / Keynote Speaker<br />\n10:15 AM - 10:30 AM:<span style="white-space:pre"> </span>Supplier Diversity Awards Recognition</div>\n\n<div>10:30 AM - 1:00 PM:<span style="white-space:pre"> </span>Supplier to Supplier MatchMaker</div>\n\n<div>1:00 PM - 2:00 PM:<span style="white-space:pre"> </span>Supplier Networking with Stellantis Buyers Teams (&gt\;50 Buyers)&nbsp\;</div>\n\n<div>2:00 PM - 3:00 PM:<span style="white-space:pre"> </span>Supplier Networking with Diversity Council Partners</div>\n\n<div>&nbsp\;</div>\n\n<div>Throughout the day attendees will be able to review business development webinars to support their continued growth and development.</div>\n\n<div>&nbsp\;</div>\n\n<div><strong>Exhibitors</strong>:</div>\n\n<ul>\n	<li>There is no cost for current OESA supplier members to have a virtual exhibit space.</li>\n	<li>The cost for the virtual exhibit space is $500 per company for non-OESA members. Non- OESA members can waive the exhibit fee by joining OESA and paying 2022 membership dues\, as a benefit OESA will offer free membership for the remainder of 2021 as well.</li>\n	<li>&nbsp\;</li>\n	<li>The deadline to register for a virtual exhibit space is September 4\, 2021.</li>\n	<li>You will be able to have up to 3 members represent your company in your virtual booth.</li>\n</ul>\n\n<div><strong>Non-Exhibiting Attendees</strong>:</div>\n\n<ul>\n	<li>If you are interested in attending the event\, but not as an exhibitor\, the cost per attendee will be $50 per person\, on or before September 10\, 2021 and $75 per person afterwards.</li>\n	<li>All attendees will have the opportunity to visit exhibitors in a virtual trade show environment with the ability to have private video connections for 1:1 networking with suppliers and Stellantis buyers.</li>\n	<li>The event will also feature on-demand presentations including: Stellantis\, OESA and others.</li>\n</ul>\n<br />\n<a href="https://chambermaster.blob.core.windows.net/userfiles/UserFiles/chambers/3222/File/Stellantis-MatchMaker2021-Flyer.pdf" target="_blank">View Flyer here</a>.
LOCATION:Virtual Event
UID:e.3222.2192
SEQUENCE:3
DTSTAMP:20260422T062806Z
URL:http://apaccmi.chambermaster.com/events/details/stellantis-2021-matchmaker-2192
END:VEVENT

END:VCALENDAR
