BEGIN:VCALENDAR
VERSION:2.0
PRODID:-//ChamberMaster//Event Calendar 2.0//EN
METHOD:PUBLISH
X-PUBLISHED-TTL:P3D
REFRESH-INTERVAL:P3D
CALSCALE:GREGORIAN
BEGIN:VEVENT
DTSTART:20211216T200000Z
DTEND:20211216T210000Z
X-MICROSOFT-CDO-ALLDAYEVENT:FALSE
SUMMARY:Revitalization and Placemaking Program Informational Webinar
DESCRIPTION:Join MEDC for an hour-long informational overview of the American Rescue Plan Act (ARPA) Revitalization and Placemaking Program (RAP) followed by a questions and answers session. Participation is free but registration is required to attend.\n\n\n\nAgenda\n\n	High-level overview of ARPA RAP program and guidelines\n	Where to find information on MichiganBusiness.org\n	How the program and application process will work\n	Timeline for applications and awards\n	Questions and answers session\n\nRegistration will close on December 16 at 2:45 p.m. For those that cannot attend the webinar live\, it will be recorded and will be available on MiPlace.org after the webinar along with an expanded Frequently Asked Questions document.\n\n\n\nParticipants are invited to submit questions and feedback via email to cdincentives@michigan.org prior to and following the informational webinar. Participants may also submit questions during the registration process.
X-ALT-DESC;FMTTYPE=text/html:<br />\nJoin MEDC for an hour-long informational overview of the American Rescue Plan Act (ARPA) Revitalization and Placemaking Program (RAP) followed by a questions and answers session. Participation is free but registration is required to attend.<br />\n<br />\n<strong>Agenda</strong>\n<ul>\n	<li>High-level overview of ARPA RAP program and guidelines</li>\n	<li>Where to find information on MichiganBusiness.org</li>\n	<li>How the program and application process will work</li>\n	<li>Timeline for applications and awards</li>\n	<li>Questions and answers session</li>\n</ul>\nRegistration will close on December 16 at 2:45 p.m. For those that cannot attend the webinar live\, it will be recorded and will be available on <a href="https://www.miplace.org/" target="_blank">MiPlace.org</a> after the webinar along with an expanded Frequently Asked Questions document.<br />\n<br />\nParticipants are invited to submit questions and feedback via email to <a href="mailto:cdincentives@michigan.org" target="_blank">cdincentives@michigan.org</a> prior to and following the informational webinar. Participants may also submit questions during the registration process.<br />\n<br />\n&nbsp\;
LOCATION:Virtual
UID:e.3222.2276
SEQUENCE:3
DTSTAMP:20260420T191232Z
URL:http://apaccmi.chambermaster.com/events/details/revitalization-and-placemaking-program-informational-webinar-2276
END:VEVENT

END:VCALENDAR
