BEGIN:VCALENDAR
VERSION:2.0
PRODID:-//ChamberMaster//Event Calendar 2.0//EN
METHOD:PUBLISH
X-PUBLISHED-TTL:P3D
REFRESH-INTERVAL:P3D
CALSCALE:GREGORIAN
BEGIN:VEVENT
DTSTART:20211118T140000Z
DTEND:20211118T153000Z
X-MICROSOFT-CDO-ALLDAYEVENT:FALSE
SUMMARY:National Apprenticeship Week
DESCRIPTION:Join SEMCA Michigan Works!\, Henry Ford College\, Monroe County Community College and Schoolcraft College as we showcase the successes and value of Registered Apprenticeship for re-building our economy\, advancing racial and gender equity\, and supporting underserved communities.\n\n\n\nWhat is Apprenticeship?\n\nApprenticeship is an industry-driven\, high quality career pathway where employers can develop and prepare their future workforce\, and individuals can obtain paid work experience\, classroom instruction\, and a portable\, nationally-recognized credential.\n\n\n\nWhat is a Registered Apprenticeship?\n\nRegistered Apprenticeship are high-quality work-based learning and post-secondary earn-and-learn models that meet national standards for registration with the U.S. Department of Labor (or federally recognized State Apprenticeship Agencies) Learn more here.\n\n\n\nBecoming an Employer Sponsor - learn more here.\n\n\n\nClick here to view PDF Flyer
X-ALT-DESC;FMTTYPE=text/html:<br />\n<br />\nJoin SEMCA Michigan Works!\, Henry Ford College\, Monroe County Community College and Schoolcraft College as we showcase the successes and value of Registered Apprenticeship for re-building our economy\, advancing racial and gender equity\, and supporting underserved communities.<br />\n<br />\n<strong>What is Apprenticeship?</strong><br />\nApprenticeship is an industry-driven\, high quality career pathway where employers can develop and prepare their future workforce\, and individuals can obtain paid work experience\, classroom instruction\, and a portable\, nationally-recognized credential.<br />\n<br />\n<strong>What is a Registered Apprenticeship?</strong><br />\nRegistered Apprenticeship are high-quality work-based learning and post-secondary earn-and-learn models that meet national standards for registration with the U.S. Department of Labor (or federally recognized State Apprenticeship Agencies) <a href="https://www.michigan.gov/leo/0\,5863\,7-336-94422_95539_73460---\,00.html" target="_blank">Learn more here.</a><br />\n<br />\nBecoming an Employer Sponsor - <a href="https://www.semca.org/employers/apprenticeship/" target="_blank">learn more here</a>.<br />\n<br />\nClick here to view <a href="https://chambermaster.blob.core.windows.net/userfiles/UserFiles/chambers/3222/File/NAW21_EventSchedule.pdf" target="_blank">PDF Flyer</a>
LOCATION:
UID:e.3222.2256
SEQUENCE:3
DTSTAMP:20260426T033439Z
URL:http://apaccmi.chambermaster.com/events/details/national-apprenticeship-week-2256
END:VEVENT

END:VCALENDAR
