BEGIN:VCALENDAR
VERSION:2.0
PRODID:-//ChamberMaster//Event Calendar 2.0//EN
METHOD:PUBLISH
X-PUBLISHED-TTL:P3D
REFRESH-INTERVAL:P3D
CALSCALE:GREGORIAN
BEGIN:VEVENT
DTSTART:20201112T140000Z
DTEND:20201112T160000Z
X-MICROSOFT-CDO-ALLDAYEVENT:FALSE
SUMMARY:MSU: Cook\, Share & Prosper Summit
DESCRIPTION:It's been a turbulent year for Michigan food entrepreneurs. Join the MSU Product Center to learn what you need to thrive in the current environment. Food industry leaders from across the state will address where the industry is going\, which food business pivots are working and how you can thrive in an increasingly online marketplace. Cook\, Share & Prosper will provide actionable expertise that is built for the food entrepreneur to integrate into their business.\n\n\n\nProgram Agenda\n\nWelcome and Introduction to Cook\, Share & Prosper MSU Product Center Summit  \n\n\n\nMollie Woods\, MSU Extension Product Center Director  \n\n\n\nState of the Industry  \n\n\n\nNow that 2020 is almost in the books\, let's look into the future of the retail grocery world for 2021! How can you prosper? Should food businesses be strategizing now? \n\n\n\nBrad Busch\, Director of Category Management for Busch's Fresh Food Market \n\nBobby Hesano\, President of D&B Grocers Wholesale & Distributors \n\nBecky DeYoung\, MSU Product Center Innovation Counselor as moderator \n\nMSU Food Processing and Innovation Center (FPIC) Expertise in 60 Seconds \n\n\n\nThe FPIC is a leading processing center that enables you access to cutting-edge equipment and the expertise to run it. Learn how the FPIC can act as a springboard for your new product launches. \n\n\n\nConsiderations In Packaging When Shipping Products \n\n\n\nE-commerce has experienced ten years of growth in three months. Your company needs to understand how to safely and effectively ship food products to meet this opportunity. Learn how to keep products temperature controlled\, prevent breakage and economize shipping directly from a leading packaging expert. \n\n\n\nPackaging Expertise in 60 Seconds \n\n\n\nThe MSU School of Packaging is the highest ranked program in the nation. Learn in 60s how you can access this expertise as a MSU Product Center client.\n\n\n\nRead More
X-ALT-DESC;FMTTYPE=text/html:It&rsquo\;s been a turbulent year for Michigan food entrepreneurs. Join the MSU Product Center to learn what you need to thrive in the current environment. Food industry leaders from across the state will address where the industry is going\, which food business pivots are working and how you can thrive in an increasingly online marketplace. Cook\, Share &amp\; Prosper will provide actionable expertise that is built for the food entrepreneur to integrate into their business.<br />\n<br />\nProgram Agenda<br />\nWelcome and Introduction to Cook\, Share &amp\; Prosper MSU Product Center Summit&nbsp\;&nbsp\;<br />\n<br />\nMollie Woods\, MSU Extension Product Center Director&nbsp\;&nbsp\;<br />\n<br />\nState of the Industry&nbsp\;&nbsp\;<br />\n<br />\nNow that 2020 is almost in the books\, let&rsquo\;s look into the future of the retail grocery world for 2021! How can you prosper? Should food businesses be strategizing now?&nbsp\;<br />\n<br />\nBrad Busch\, Director of Category Management for Busch&rsquo\;s Fresh Food Market&nbsp\;<br />\nBobby Hesano\, President of D&amp\;B Grocers Wholesale &amp\; Distributors&nbsp\;<br />\nBecky DeYoung\, MSU Product Center Innovation Counselor as moderator&nbsp\;<br />\nMSU Food Processing and Innovation Center (FPIC) Expertise in 60 Seconds&nbsp\;<br />\n<br />\nThe FPIC is a leading processing center that enables you access to cutting-edge equipment and the expertise to run it. Learn how the FPIC can act as a springboard for your new product launches.&nbsp\;<br />\n<br />\nConsiderations In Packaging When Shipping Products&nbsp\;<br />\n<br />\nE-commerce has experienced ten years of growth in three months. Your company needs to understand how to safely and effectively ship food products to meet this opportunity. Learn how to keep products temperature controlled\, prevent breakage and economize shipping directly from a leading packaging expert.&nbsp\;<br />\n<br />\nPackaging Expertise in 60 Seconds&nbsp\;<br />\n<br />\nThe MSU School of Packaging is the highest ranked program in the nation. Learn in 60s how you can access this expertise as a MSU Product Center client.<br />\n<br />\n<a href="https://www.canr.msu.edu/productcenter/csp?mkt_tok=eyJpIjoiTVROaU16VmlOVGRrTXpOaiIsInQiOiI4blVDZ0FVVzZjTjV0SFYzZWhPR1c0WjA1Mkt1MktTbjhSb0tKSDBKeHUxXC9IVDJ2UTkrajZGUkdTYSthWVVRcmRhTlkyc1BcL2lCZVZ3cXUwTzZuckprSUtGbEFPdHVJbXNvWDBucnFIdjM0c01SM3BBR3V5dXFER3k5SUEzSXJFIn0%3D" target="_blank">Read More</a>
LOCATION:Virtual event by Michigan State University
UID:e.3222.1999
SEQUENCE:3
DTSTAMP:20260425T170913Z
URL:http://apaccmi.chambermaster.com/events/details/msu-cook-share-prosper-summit-1999
END:VEVENT

END:VCALENDAR
