BEGIN:VCALENDAR
VERSION:2.0
PRODID:-//ChamberMaster//Event Calendar 2.0//EN
METHOD:PUBLISH
X-PUBLISHED-TTL:P3D
REFRESH-INTERVAL:P3D
CALSCALE:GREGORIAN
BEGIN:VEVENT
DTSTART:20201120T200000Z
DTEND:20201120T210000Z
X-MICROSOFT-CDO-ALLDAYEVENT:FALSE
SUMMARY:LOGISTICS/SUPPLY CHAIN AUTOMATION - Training Programs Discussion
DESCRIPTION:Please join us for This Important Discussion: Training Programs for Logistics/Supply Chain Automation\n\n\n\nAbout this Event\n\n	What skill set and certifications are needed by logistics/ supply chain professionals to flourish in the future\, as the Fourth Industrial Revolution   Industry 4.0   takes hold?\n	What is the demand for these professionals in the Metro Detroit area?\n	What kind of training is needed to master new factory automation and computerization processes?\n	What is the most efficient way to deliver this training and place professionals in the workforce?\n\nThese are just some of the themes to be covered in a special virtual focus group session with employers from around our region\, on Friday\, November 20\, 2020\, from 3:00-4:00 p.m.\n\n\n\nThe event is being hosted by Oakland County Michigan Works! in partnership with Oakland Community College and ATS-Lab Midwest.\n\n\n\nYour input would be very valuable as we determine the need and feasibility of offering employer-driven training programs to prepare job seekers for new careers in this field.\n\n\n\nYour Focus Group Hosts:\n\n\n\nJennifer Llewellyn\, Director\, Oakland County Michigan Works!\n\nSandra Bachert\, Business Services\, Manager\, Oakland Community College\n\nMatt Kirchner\, President\, ATS-Lab Midwest\n\nJason Everett\, Regional Manager\, Amatrol
X-ALT-DESC;FMTTYPE=text/html:Please join us for This Important Discussion: Training Programs for Logistics/Supply Chain Automation<br />\n<br />\nAbout this Event\n<ul>\n	<li>What skill set and certifications are needed by logistics/ supply chain professionals to flourish in the future\, as the Fourth Industrial Revolution &mdash\; Industry 4.0 &mdash\; takes hold?</li>\n	<li>What is the demand for these professionals in the Metro Detroit area?</li>\n	<li>What kind of training is needed to master new factory automation and computerization processes?</li>\n	<li>What is the most efficient way to deliver this training and place professionals in the workforce?</li>\n</ul>\nThese are just some of the themes to be covered in a special virtual focus group session with employers from around our region\, on Friday\, November 20\, 2020\, from 3:00-4:00 p.m.<br />\n<br />\nThe event is being hosted by Oakland County Michigan Works! in partnership with Oakland Community College and ATS-Lab Midwest.<br />\n<br />\nYour input would be very valuable as we determine the need and feasibility of offering employer-driven training programs to prepare job seekers for new careers in this field.<br />\n<br />\n<strong>Your Focus Group Hosts</strong>:<br />\n<br />\n<strong>Jennifer Llewellyn</strong>\, Director\, Oakland County Michigan Works!<br />\n<strong>Sandra Bachert</strong>\, Business Services\, Manager\, Oakland Community College<br />\n<strong>Matt Kirchner</strong>\, President\, ATS-Lab Midwest<br />\n<strong>Jason Everett</strong>\, Regional Manager\, Amatrol
LOCATION:Virtual
UID:e.3222.2014
SEQUENCE:3
DTSTAMP:20260425T125241Z
URL:http://apaccmi.chambermaster.com/events/details/logistics-supply-chain-automation-training-programs-discussion-2014
END:VEVENT

END:VCALENDAR
