BEGIN:VCALENDAR
VERSION:2.0
PRODID:-//ChamberMaster//Event Calendar 2.0//EN
METHOD:PUBLISH
X-PUBLISHED-TTL:P3D
REFRESH-INTERVAL:P3D
CALSCALE:GREGORIAN
BEGIN:VEVENT
DTSTART:20211113T150000Z
DTEND:20211113T163000Z
X-MICROSOFT-CDO-ALLDAYEVENT:FALSE
SUMMARY:Korean Language Classes
DESCRIPTION:Korean Connection has been hosting language classes since 2016!\n\n\n\nFall Session 2021 is Open for Registration!\n\n\n\nKorean Connection is a non-profit organization in Grand Rapids formed by people who share connections with South Korea through family\, friendships\, business\, culture\, curiosity\, or history.\n\n\n\nWe support the exchange of ideas\, understanding\, appreciation\, and support for the close historical and economic ties between the people of Korea\, the U.S. and our own state of Michigan.
X-ALT-DESC;FMTTYPE=text/html:<br />\nKorean Connection has been hosting language classes since 2016!<br />\n<br />\nFall Session 2021 is Open for Registration!<br />\n<br />\nKorean Connection is a non-profit organization in Grand Rapids formed by people who share connections with South Korea through family\, friendships\, business\, culture\, curiosity\, or history.<br />\n<br />\nWe support the exchange of ideas\, understanding\, appreciation\, and support for the close historical and economic ties between the people of Korea\, the U.S. and our own state of Michigan.
LOCATION:Virtual
UID:e.3222.2242
SEQUENCE:3
DTSTAMP:20260423T044943Z
URL:http://apaccmi.chambermaster.com/events/details/korean-language-classes-11-13-2021-2242
END:VEVENT

END:VCALENDAR
