BEGIN:VCALENDAR
VERSION:2.0
PRODID:-//ChamberMaster//Event Calendar 2.0//EN
METHOD:PUBLISH
X-PUBLISHED-TTL:P3D
REFRESH-INTERVAL:P3D
CALSCALE:GREGORIAN
BEGIN:VEVENT
DTSTART:20210803T150000Z
DTEND:20210803T160000Z
X-MICROSOFT-CDO-ALLDAYEVENT:FALSE
SUMMARY:Data Privacy Rules for Selling Internationally
DESCRIPTION:Did you know that the European Union's comprehensive data privacy rules\, the General Data Protection Regulation or GDPR\, can apply to U.S. companies and that your company could be subject to investigations or fines\, even if you don't think you're doing business in the EU?\n\n\n\nDid you also know that nine countries across East-Southeast Asia and North America offer a common data privacy certification for companies to comply with domestic regulations and transfer data internationally?\n\n\n\nJoin the International Trade Administration's U.S. Commercial Service and Ann Arbor SPARK Tuesday\, August 3 for a webinar on data privacy rules for selling internationally. Hear from data privacy experts from the International Trade Administration's digital services industry specialists on how to comply with the various data privacy rules around the globe\, including the GDPR. Learn what kind of data is impacted and the steps to get your website and technology into compliance.\n\n\n\nPanelists\n\n	Clinton Harper\, CIPP/E\, CIPP/US Policy Advisor and Administrator\, Office of Digital Services Industries | Privacy Shield Team\, Industry & Analysis\, U.S. Department of Commerce\n	Isabella Carlton\, Policy Advisor and Administrator\, Office of Digital Services Industries | Privacy Shield Team\, Industry & Analysis\, U.S. Department of Commerce\n	Sam Schofield\, International Trade Specialist\, Global Data Policy Team\, Industry & Analysis\, U.S. Department of Commerce\n	Aryeh Ness\, International Trade Specialist\, Global Data Policy Team\, Industry and Analysis\, U.S. Department of Commerce\n	Phil Santer\, Senior Vice President and Chief of Staff\, Ann Arbor SPARK\n	Eric Podzorski\, (moderator) International Trade Specialist\, U.S. Commercial Service East Michigan\, U.S. Department of Commerce\n\n\n\nFollowing the presentation\, participants will have the option of scheduling free one-on-one counseling sessions at a later date.\n\n\n\nPlease note\, you must attend the webinar in order to be eligible for counseling.
X-ALT-DESC;FMTTYPE=text/html:<br />\n<br />\nDid you know that the European Union&#39\;s comprehensive data privacy rules\, the General Data Protection Regulation or GDPR\, can apply to U.S. companies and that your company could be subject to investigations or fines\, even if you don&rsquo\;t think you&rsquo\;re doing business in the EU?<br />\n<br />\nDid you also know that nine countries across East-Southeast Asia and North America offer a common data privacy certification for companies to comply with domestic regulations and transfer data internationally?<br />\n<br />\nJoin the <a href="https://www.trade.gov/let-our-experts-help-0" target="_blank">International Trade Administration&rsquo\;s U.S. Commercial Service </a>and <a href="https://annarborusa.org/" target="_blank">Ann Arbor SPARK</a> Tuesday\, August 3 for a webinar on data privacy rules for selling internationally. Hear from data privacy experts from the International Trade Administration&rsquo\;s digital services industry specialists on how to comply with the various data privacy rules around the globe\, including the GDPR. Learn what kind of data is impacted and the steps to get your website and technology into compliance.<br />\n<br />\nPanelists\n<ul>\n	<li><a href="https://www.linkedin.com/in/harperclinton/" target="_blank">Clinton Harper</a>\, CIPP/E\, CIPP/US Policy Advisor and Administrator\, Office of Digital Services Industries | Privacy Shield Team\, Industry &amp\; Analysis\, U.S. Department of Commerce</li>\n	<li><a href="https://www.linkedin.com/in/icarlton/" target="_blank">Isabella Carlton</a>\, Policy Advisor and Administrator\, Office of Digital Services Industries | Privacy Shield Team\, Industry &amp\; Analysis\, U.S. Department of Commerce</li>\n	<li><a href="https://www.linkedin.com/in/sam-schofield-0b14a919/" target="_blank">Sam Schofield</a>\, International Trade Specialist\, Global Data Policy Team\, Industry &amp\; Analysis\, U.S. Department of Commerce</li>\n	<li><a href="https://www.linkedin.com/in/ari-ness-755030114/" target="_blank">Aryeh Ness</a>\, International Trade Specialist\, Global Data Policy Team\, Industry and Analysis\, U.S. Department of Commerce</li>\n	<li><a href="https://www.linkedin.com/in/philsanter/" target="_blank">Phil Santer</a>\, Senior Vice President and Chief of Staff\, Ann Arbor SPARK</li>\n	<li><a href="https://www.linkedin.com/in/epodz/" target="_blank">Eric Podzorski</a>\, (moderator) International Trade Specialist\, U.S. Commercial Service East Michigan\, U.S. Department of Commerce</li>\n</ul>\n<br />\nFollowing the presentation\, participants will have the option of scheduling free one-on-one counseling sessions at a later date.<br />\n<br />\nPlease note\, you must attend the webinar in order to be eligible for counseling.
LOCATION:Virtual
UID:e.3222.2185
SEQUENCE:3
DTSTAMP:20260422T153523Z
URL:http://apaccmi.chambermaster.com/events/details/data-privacy-rules-for-selling-internationally-2185
END:VEVENT

END:VCALENDAR
