BEGIN:VCALENDAR
VERSION:2.0
PRODID:-//ChamberMaster//Event Calendar 2.0//EN
METHOD:PUBLISH
X-PUBLISHED-TTL:P3D
REFRESH-INTERVAL:P3D
CALSCALE:GREGORIAN
BEGIN:VEVENT
DTSTART:20201028T170000Z
DTEND:20201028T180000Z
X-MICROSOFT-CDO-ALLDAYEVENT:FALSE
SUMMARY:APACC: Moving Networking Relationships along using LinkedIn
DESCRIPTION:APACC in partnership with National Ace\, please join us for a webinar on how to use LinkedIn to move your virtual networking relationships along. Learn how to send personalized notes\, respond to connection invitations with a message\, and move the relationship along to a meeting. This is an interactive webinar\, please be prepared to connect with others using LinkedIn during this webinar.
X-ALT-DESC;FMTTYPE=text/html:APACC in partnership with National Ace\, please join us for a webinar on how to use LinkedIn to move your virtual networking relationships along. Learn how to send personalized notes\, respond to connection invitations with a message\, and move the relationship along to a meeting. This is an interactive webinar\, please be prepared to connect with others using LinkedIn during this webinar.&nbsp\;
LOCATION:Webinar
UID:e.3222.1983
SEQUENCE:3
DTSTAMP:20260425T115345Z
URL:http://apaccmi.chambermaster.com/events/details/apacc-moving-networking-relationships-along-using-linkedin-1983
END:VEVENT

END:VCALENDAR
