BEGIN:VCALENDAR
VERSION:2.0
PRODID:-//ChamberMaster//Event Calendar 2.0//EN
METHOD:PUBLISH
X-PUBLISHED-TTL:P3D
REFRESH-INTERVAL:P3D
CALSCALE:GREGORIAN
BEGIN:VEVENT
DTSTART:20210331T163000Z
DTEND:20210331T173000Z
X-MICROSOFT-CDO-ALLDAYEVENT:FALSE
SUMMARY:AAPI Small Business Forum
DESCRIPTION:Join the White House Initiative on Asian Americans and Pacific Islanders (WHIAAPI) for a live discussion on economic recovery for Asian American and Pacific Islander-owned small businesses. This event is designed to provide information on Federal resources available to small business owners to help them recover and stay in business. Speakers from Department of Justice\, the Small Business Administration (SBA) and Minority Business Development Agency (MBDA) will provide information and resources.\n\n\n\nAttendees will hear:\n\n	Overview of Federal resources and efforts to address the impacts of hate crimes against small business owners and the community\n	Resources to support small and minority-owned businesses\n	SBA COVID-recovery related program updates\n\n\n\nClick to view Flyer here.
X-ALT-DESC;FMTTYPE=text/html:Join the White House Initiative on Asian Americans and Pacific Islanders (WHIAAPI) for a live discussion on economic recovery for Asian American and Pacific Islander-owned small businesses. This event is designed to provide information on Federal resources available to small business owners to help them recover and stay in business. Speakers from Department of Justice\, the Small Business Administration (SBA) and Minority Business Development Agency (MBDA) will provide information and resources.<br />\n<br />\nAttendees will hear:\n<ul>\n	<li>Overview of Federal resources and efforts to address the impacts of hate crimes against small business owners and the community</li>\n	<li>Resources to support small and minority-owned businesses</li>\n	<li>SBA COVID-recovery related program updates</li>\n</ul>\n<br />\nClick to view <a href="https://chambermaster.blob.core.windows.net/userfiles/UserFiles/chambers/3222/File/AAPISBForumFlyerMar2021.pdf" target="_blank">Flyer here</a>.
LOCATION:Live Webinar
UID:e.3222.2091
SEQUENCE:3
DTSTAMP:20260425T164114Z
URL:http://apaccmi.chambermaster.com/events/details/aapi-small-business-forum-2091
END:VEVENT

END:VCALENDAR
